BEGIN:VCALENDAR
VERSION:2.0
PRODID:-//eventon.com NONSGML v1.0//EN
CALSCALE:GREGORIAN
METHOD:PUBLISH
BEGIN:VEVENT
UID:69e904bf3eb51
DTSTAMP:20260422T172623Z
DTSTART:20210915
DTEND:20210916
LOCATION:Hamburger Rathaus
SUMMARY:Bürgerschaftssitzung
DESCRIPTION:Die Bürgerschaftssitzungen sind öffentlich. Die Tagesordnung 
 zur aktuellen Sitzung erscheint rund zwei Wochen vor dem Sitzungstermin und
  wird später um die Themen der Aktuellen Stunde aktualisiert. Sie können 
 die Sitzungen live im Internet verfolgen. Alle Debattenbeiträge finden Sie
  am Folgetag zum Anschauen und Herunterladen in der Mediathek der Bürgersc
 haft. Zudem[..]\nhttps://www.birgitstoever.de/events/buergerschaftssitzung-
 5/
URL:https://www.birgitstoever.de/events/buergerschaftssitzung-5/
END:VEVENT
END:VCALENDAR